BEGIN:VCALENDAR
VERSION:2.0
X-WR-TIMEZONE:Europe/Paris
PRODID:-//Audencia//NONSGML v1.0//EN
CALSCALE:GREGORIAN
BEGIN:VEVENT
SUMMARY:Triathlon Audencia La Baule - l'after triath'
DTSTART:20230923T183000
DTEND:20230923T220000
UID:1540
DTSTAMP:20260425T210655
LOCATION:Chez Monica Le Clan des Mamma 24 Boulevard Hennecart  44500 LA BAULE
DESCRIPTION:Chers diplômé(e)s,\n\nVous êtes inscrit(e) au 36ème Triathlon Audencia La Baule \nOu vous venez supporter vos ami(e)s,\nOu tout simplement vous habitez la région,\n \nVenez nous retrouver à l'after Triath'​\n(en vous inscrivant avant le 15 septembre, bien entendu) !\n \n\nLe samedi 23 septembre 2023\nde 18h30 à 22h\nChez Monica - Le Clan des Mamma\n24 Boulevard Hennecart \n44500 La Baule-Escoublac\n \n\nInscription obligatoire - nombre de places limité\n \n\n
BEGIN:VALARM
ACTION:DISPLAY
TRIGGER:-PT60M
DESCRIPTION:Triathlon Audencia La Baule - l'after triath'
END:VALARM
END:VEVENT
END:VCALENDAR