BEGIN:VCALENDAR
VERSION:2.0
X-WR-TIMEZONE:Europe/Paris
PRODID:-//Audencia//NONSGML v1.0//EN
CALSCALE:GREGORIAN
BEGIN:VEVENT
SUMMARY:Webinar: Claire Harbour-Lyell & Antoine Tirard on designing a second-act career
DTSTART:20180308T133000
DTEND:20180308T144500
UID:154
DTSTAMP:20260425T205734
LOCATION:
DESCRIPTION:Mid-career has always been a time of re-evaluation. Now however, working lives are getting longer, we spend less time in each job, face less certain career progression and are more likely to find our roles disappear entirely.  In this webinar Antoine Tirard and Claire Harbour-Lyell (authors of Disrupt Your Career: How to Navigate Uncharted Career Transitions and Thrive) share the results of 50 case studies which show different successful paths for mid-career transition.\n \nWe will look at the “4E” model of career transition which can be applied to anyone in mid-career contemplating a new direction. \n\nIn particular:\n \n\n	How to understand what you want and where you are starting from\n	How to experiment with a new path without leaving your current role\n	A way to understand and increase your “career capital”\n	The right kind of networking for career change\n	How to know when you have found the next step, and how to engage yourself\n	How to make a start in a new career.\n\n \nWe will also examine what companies can do to enrich their talent pool by making themselves more open to career changers and we will explain a method to assess how difficult different types of transition will be.\n\n \nREGISTER HERE\nThere are 200 free tickets for alumni and students here via the registration page\n(use code “AUDstudent” if the free ticket is not shown)\n\n\nAll attendees will receive the meeting slides, a recording and resource pack.\n 
BEGIN:VALARM
ACTION:DISPLAY
TRIGGER:-PT60M
DESCRIPTION:Webinar: Claire Harbour-Lyell & Antoine Tirard on designing a second-act career
END:VALARM
END:VEVENT
END:VCALENDAR