BEGIN:VCALENDAR
VERSION:2.0
X-WR-TIMEZONE:Europe/Paris
PRODID:-//Audencia//NONSGML v1.0//EN
CALSCALE:GREGORIAN
BEGIN:VEVENT
SUMMARY:Audencia Around the World in Luxembourg
DTSTART:20230404T184500
DTEND:20230404T200000
UID:1537
DTSTAMP:20260425T211127
LOCATION:Running Track Merl Boulevard Pierre Dupong Luxembourg
DESCRIPTION:#Audencia_Worldwide\n\nAlumni in Luxembourg will be participating in the 2023 Around The World celebrations.\n\n\nDate : Mardi 4 Avril\nHeure de début : 18h45\nLieu : Running Track Merl, Boulevard Pierre Dupong\n\n\nA l'occasion de la 5ème édition d'Around the World, les ambassadeurs du chapter de Luxembourg ont le plaisir de vous inviter à se retrouver pour une session sportive et solidaire le mardi 4 avril à 18h45 au Running Track Merl (Boulevard Pierre Dupong).\n\nL’objectif est simple : pour chaque tour de piste réalisé par un participant, Audencia s’engage à reverser un euro à une œuvre caritative choisie au préalable par les alumni du chapter. Nous comptons donc sur vous pour venir nombreux !\n\nComme tout effort mérite réconfort, la séance sera suivie d’un verre tous ensemble.\n\nSee you there !\n\nDe la part de vos ambassadeurs, \nMathieu Hecquet\n \n\n\n\n\nAround the World events will begin on 24 March 2023 and travel to cities on all five continents. This event is for alumni and students who are currently living and working in different cities worldwide. For its fifth edition, Audencian ambassadors around the world are being creative, inventive and resourceful in devising activities for their alumni communities. Your challenge, should you choose to accept it, is to join them!\n\nDiscover what else is happening Around the World in 2023:\n\n \n\n\n\n\nIf you can’t find an event taking place near you, drop us a line and we’ll help you set one up!
BEGIN:VALARM
ACTION:DISPLAY
TRIGGER:-PT60M
DESCRIPTION:Audencia Around the World in Luxembourg
END:VALARM
END:VEVENT
END:VCALENDAR