BEGIN:VCALENDAR
VERSION:2.0
X-WR-TIMEZONE:Europe/Paris
PRODID:-//Audencia//NONSGML v1.0//EN
CALSCALE:GREGORIAN
BEGIN:VEVENT
SUMMARY:Audencia Around the World in Dubai
DTSTART:20230324T160000
DTEND:20230324T180000
UID:1532
DTSTAMP:20260425T211116
LOCATION:Irish Village 31 A Street Dubai
DESCRIPTION:#Audencia_Worldwide\n\nAlumni in Dubai will be participating in the 2023 Around The World celebrations, and, as usual, they are doing it their way!\n\nJoin Alumni Ambassador Snehanshu & the local alumni community for drinks & dinner on Friday 24 March 7pm onwards (local time) at the Irish Village.\n \n\n\n\n\nAround the World events will begin on 24 March 2023 and travel to cities on all five continents before coming to a close on 10 April. This event is for alumni and students who are currently living and working in different cities worldwide. For its fifth edition, Audencian ambassadors around the world are being creative, inventive and resourceful in devising activities for their alumni communities. Your challenge, should you choose to accept it, is to join them!\n\nDiscover what else is happening Around the World in 2023:\n\n\n\n\nIf you can’t find an event taking place near you, drop us a line and we’ll help you set one up!
BEGIN:VALARM
ACTION:DISPLAY
TRIGGER:-PT60M
DESCRIPTION:Audencia Around the World in Dubai
END:VALARM
END:VEVENT
END:VCALENDAR