BEGIN:VCALENDAR
VERSION:2.0
X-WR-TIMEZONE:Europe/Paris
PRODID:-//Audencia//NONSGML v1.0//EN
CALSCALE:GREGORIAN
BEGIN:VEVENT
SUMMARY:Be a Boss Tour Audencia
DTSTART:20230406T090000
DTEND:20230406T190000
UID:1531
DTSTAMP:20260425T211249
LOCATION:Audencia Atlantic campus
DESCRIPTION:\n\nRendez-vous le jeudi 6 avril  dans les locaux d'Audencia pour participez à l'évènement de référence en France dédié à l'entrepreneuriat féminin !\n\nN'hésitez pas à vous inscrire en tant que participant pour venir rencontrer et encourager ces femmes inspirantes. \n\nAu programme: présentation des projets de chacunes de ces femmes, une table ronde avec 3 femmes entrepreneures de la région, des temoignages, une conférence avec Carole Scullier qui a fait l'Executive MBA à Audencia et qui s'est lancé par la suite dans l'entrepreneuriat, ... \n \n\nRejoignez-nous !\n\n\n\nVotre contact priviligié :\n\nAnne Villate\n\n06 49 01 25 58\n\navillate@audencia.com
BEGIN:VALARM
ACTION:DISPLAY
TRIGGER:-PT60M
DESCRIPTION:Be a Boss Tour Audencia
END:VALARM
END:VEVENT
END:VCALENDAR