BEGIN:VCALENDAR
VERSION:2.0
X-WR-TIMEZONE:Europe/Paris
PRODID:-//Audencia//NONSGML v1.0//EN
CALSCALE:GREGORIAN
BEGIN:VEVENT
SUMMARY:CONCOURS AUDACE : Cérémonie de remise de prix
DTSTART:20230524T190000
DTEND:20230524T220000
UID:1530
DTSTAMP:20260425T211127
LOCATION:Atlantic Campus 8, route de la Jonelière 44300 Nantes
DESCRIPTION:\nParticipez à la soirée de clôture\nle 24 mai 2023\nPour cette 5e édition, le Concours Audace se réinvente...\n\n \n\n \n\nGRANDE NOUVEAUTE :\n6 candidats pitcheront leur projet sur scène.\nVenez les soutenir et voter en direct pour votre projet favori !\n\n\n\nL'objectif de ce concours est de révéler les talents entrepreneuriaux Made in Audencia et de célébrer leurs initiatives lors d'un événement convivial.\n\n3 temps forts lors de cette soirée : \n•    La cérémonie de remise des prix du jury pour les 3 catégories : Jeune pousse, Impact et Accélération ; \n•    Le concours de Pitchs, dans le cadre du Prix Coup de Cœur du Public ;\n•    Le cocktail apéritif, qui viendra clôturer l’événement.\n\nNous vous invitons à vous inscrire avant le 17 mai à cet événement, pour soutenir les projets entrepreneuriaux de nos étudiants et alumni et découvrir les lauréats du Concours Audace 2023.\n\n \n\nINSCRIVEZ-VOUS A LA SOIREE\nen cliquant ici\n\n \n\n\n\n\nLe Concours Audace est co-organisé par le pôle Entrepreneur d'Audencia avec la participation des associations ACE (Audencia Club of Entrepreneurship) et Enactus Audencia, ainsi que l’ Incubateur Centrale-Audencia-Ensa.\n 
BEGIN:VALARM
ACTION:DISPLAY
TRIGGER:-PT60M
DESCRIPTION:CONCOURS AUDACE : Cérémonie de remise de prix
END:VALARM
END:VEVENT
END:VCALENDAR