BEGIN:VCALENDAR
VERSION:2.0
X-WR-TIMEZONE:Europe/Paris
PRODID:-//Audencia//NONSGML v1.0//EN
CALSCALE:GREGORIAN
BEGIN:VEVENT
SUMMARY:Cérémonie de remise des diplômes Mastère Spécialisé
DTSTART:20180120T150000
DTEND:20260425T205728
UID:153
DTSTAMP:20260425T205728
LOCATION:Audencia Business School 8 route de la Jonelière, Nantes
DESCRIPTION:La cérémonie de remise de diplômes des Mastères Spécialisés® Promotion 2017 se tiendra la 20 janvier à 15 heures à Audencia Business School (amphi. Edit de Nantes). \n \n\n>> INSCRIPTION OBLIGATOIRE via Audencia Tomorrow <<
BEGIN:VALARM
ACTION:DISPLAY
TRIGGER:-PT60M
DESCRIPTION:Cérémonie de remise des diplômes Mastère Spécialisé
END:VALARM
END:VEVENT
END:VCALENDAR