BEGIN:VCALENDAR
VERSION:2.0
X-WR-TIMEZONE:Europe/Paris
PRODID:-//Audencia//NONSGML v1.0//EN
CALSCALE:GREGORIAN
BEGIN:VEVENT
SUMMARY:Club Transitions : Webinar - Changement climatique et action en entreprise
DTSTART:20230413T180000
DTEND:20230413T193000
UID:1529
DTSTAMP:20260425T211128
LOCATION:
DESCRIPTION:\nClub Transitions et Alumni for the Planet vous invitent à leur prochain webinar le jeudi 13 avril de 18h à 19h30 sur le sujet de "Changement climatique et action en entreprise".\n\nAu programme de ce webinar :\n- Intervention de Raphaël Gerson, conseiller scientifique et technique auprès de l’ADEME, qui présentera les enjeux de la neutralité carbone et le rôle que les entreprises ont à jouer dans la transition écologique\n- Témoignage de François Quintreau, responsable de projets à impact à la MACIF, vice-président de Solidarités Nouvelles face au Chômage et fondateur de la Fresque de l’Emploi durable, qui présentera sa façon altruiste de conjuguer son engagement professionnel et associatif pour amplifier son impact écologique et social\n \n\nInscrivez-vous\n\n\n\n \n\n 
BEGIN:VALARM
ACTION:DISPLAY
TRIGGER:-PT60M
DESCRIPTION:Club Transitions : Webinar - Changement climatique et action en entreprise
END:VALARM
END:VEVENT
END:VCALENDAR