BEGIN:VCALENDAR
VERSION:2.0
X-WR-TIMEZONE:Europe/Paris
PRODID:-//Audencia//NONSGML v1.0//EN
CALSCALE:GREGORIAN
BEGIN:VEVENT
SUMMARY:Webinar: Top tips on professional networking
DTSTART:20230425T150000
DTEND:20230425T160000
UID:1528
DTSTAMP:20260425T211116
LOCATION:
DESCRIPTION:AMBA webinar "Top tips on professional networking"\n\nDate: Tuesday 25 April 2023\nTime: 15:00-16:00 Paris time\n\n\nThe AMBA & BGA Membership team are delighted to invite you to attend Top tips on professional networking with Juliet Landau-Pope.\n\nIf you’re looking for work or to develop a business, you’ve no doubt heard about professional networking. But how do you get started and make the most of networking opportunities? During this workshop, Juliet Landau-Pope will outline the benefits of different types of networking events, online and in person. Juliet will discuss strategies to help you to prepare, to participate more productively, and to follow up, and share tips on how to avoid the most common mistakes that people make while networking.\n\nAttendees are welcome to submit questions in advance (anonymously, if you prefer) or to raise them during the workshop. To submit questions ahead of the webinar, please email Ben Maheson.\n\n \nBOOK YOUR PLACE FOR THE WEBINAR\n \nAbout the speaker\nJuliet Landau-Pope is a certified coach, productivity expert and author of two books, Being More Productive (2017) and Clearing Your Clutter (2018). After graduating from Oxford University, she embarked on an academic career, then launched her consultancy JLP Coach in 2008. She coaches individuals and groups from diverse backgrounds to develop soft skills, including time management and organising, and has a particular interest in helping young professionals and entrepreneurs to overcome procrastination.\n\nDid you graduate from an AMBA-accredited programme at Audencia?\nThis webinar is accessible to students or alumni of an AMBA-accredited programme at Audencia, i.e., Executive MBA, EuroMBA, Full-Time MBA or Master in Management (Grande Ecole Programme), but registration is required. Registering as an alum of an AMBA-accredited programme takes only a few minutes.\n\nThis event is free for AMBA members to attend but registration is required using the link above.
BEGIN:VALARM
ACTION:DISPLAY
TRIGGER:-PT60M
DESCRIPTION:Webinar: Top tips on professional networking
END:VALARM
END:VEVENT
END:VCALENDAR