BEGIN:VCALENDAR
VERSION:2.0
X-WR-TIMEZONE:Europe/Paris
PRODID:-//Audencia//NONSGML v1.0//EN
CALSCALE:GREGORIAN
BEGIN:VEVENT
SUMMARY:Audencia Around the World in Tokyo
DTSTART:20230401T050000
DTEND:20230401T090000
UID:1527
DTSTAMP:20260425T211249
LOCATION:豊洲公園，〒135-0061 東京都江東区豊洲２丁目３−6
DESCRIPTION:#Audencia_Worldwide\n\nAlumni in Tokyo will be participating in the 2023 Around The World celebrations.\n\nJoin them on Saturday 1 April, for the Cherry blossom season in Tokyo! \n\n----------------------------------------------------------------------------------------\n\nWe are planning to enjoy the time together, sitting under the cherry blossom, drinking and eating as looking over Tokyo Bay in Toyosu park. If you are interested, please come and join us ? don't forget to bring your own drinks and food ;) \n\nDATE: 01.04.2023\nTIME:  12:00\nWHERE: Toyosu park \n\nお花見のシーズンがやってきました！\n\n卒業生のみなさんで一緒にお花見をしながら、楽しい時間を過ごしませんか。\n飲み物と軽食は、各自ご持参の上、ご参加お願いいたします。\n\n詳細はこちらです。\n\n開催日：4月1日\n時間：12:00\n場所：豊洲公園\n\n当日、お会いできるのを楽しみにしております！\n\n-----------------------------------------------------------------------------------\n\n\n\n\nAround the World events will begin on 24 March 2023 and travel to cities on all five continents before coming to a close on 10 April. This event is for alumni and students who are currently living and working in different cities worldwide. For its fifth edition, Audencian ambassadors around the world are being creative, inventive and resourceful in devising activities for their alumni communities. Your challenge, should you choose to accept it, is to join them!\n\nDiscover what else is happening Around the World in 2023:\n \n\n\n\n\nIf you can’t find an event taking place near you, drop us a line and we’ll help you set one up!
BEGIN:VALARM
ACTION:DISPLAY
TRIGGER:-PT60M
DESCRIPTION:Audencia Around the World in Tokyo
END:VALARM
END:VEVENT
END:VCALENDAR