BEGIN:VCALENDAR
VERSION:2.0
X-WR-TIMEZONE:Europe/Paris
PRODID:-//Audencia//NONSGML v1.0//EN
CALSCALE:GREGORIAN
BEGIN:VEVENT
SUMMARY:Afterwork in Boston, USA
DTSTART:20230622T190000
DTEND:20230622T210000
UID:1525
DTSTAMP:20260425T211249
LOCATION:Blu  4 Avery Street Boston MA 02111
DESCRIPTION:Audencia's Executive MBA participants are heading to Boston for their 2023 learning trip!\n\nCome and join them on Thursday 22 June from 7pm at Blu, 4 Avery Street, Boston MA 02111 to share experiences of living and working in Boston.\n\n \n
BEGIN:VALARM
ACTION:DISPLAY
TRIGGER:-PT60M
DESCRIPTION:Afterwork in Boston, USA
END:VALARM
END:VEVENT
END:VCALENDAR