BEGIN:VCALENDAR
VERSION:2.0
X-WR-TIMEZONE:Europe/Paris
PRODID:-//Audencia//NONSGML v1.0//EN
CALSCALE:GREGORIAN
BEGIN:VEVENT
SUMMARY:Intercultural Festival 2023
DTSTART:20230316T130000
DTEND:20230316T180000
UID:1524
DTSTAMP:20260425T211355
LOCATION:Audencia Atlantic Campus, 8 Route de la Jonelière, Nantes, France
DESCRIPTION:Audencia and ICteam proudly invite you to the VII edition of the Intercultural Festival (ICF) Audencia.\n\nWhere?\n\nFORUM, Atlantic Campus\n\nWhen?\n\nThursday, 16 March, starting at 13:00\n\nUnder the banner “Embracing differences, celebrating diversity”, the event reunites, under one roof, different performances from all over the world.\n\nWe will sing, dance, cook, and present our traditional outfits and many more!\n\nDifferent associations already announced their presence for this big event (fashion show, dancing show, culinary tasting).\n\nGet ready to immerse yourself in a wealth of cultures, traditions and identities, where those who enter as guests, leave as friends!
BEGIN:VALARM
ACTION:DISPLAY
TRIGGER:-PT60M
DESCRIPTION:Intercultural Festival 2023
END:VALARM
END:VEVENT
END:VCALENDAR