BEGIN:VCALENDAR
VERSION:2.0
X-WR-TIMEZONE:Europe/Paris
PRODID:-//Audencia//NONSGML v1.0//EN
CALSCALE:GREGORIAN
BEGIN:VEVENT
SUMMARY:Audencia Around the World in London
DTSTART:20230330T190000
DTEND:20230330T213000
UID:1523
DTSTAMP:20260425T211242
LOCATION:L'Antidote winebar 12A Newburgh St London W1F 7RR
DESCRIPTION:#Audencia_Worldwide\n\nAlumni in London will be participating in the 2023 Around The World celebrations.\n\nJoin them on Thursday 30 March from 19:00 to 21:30 at L'Antidote winebar in London's Soho (12A Newburgh St, Carnaby, London W1F 7RR)\n\nGuest speaker Pierre Alix will get the conversation going by sharing his story of London, baking and entrepreneurship. You will get the chance to taste some of his bread as well as a little cheese and wine!\n \n\nNumber of spaces limited - so register now!\n\n\n\n\nAround the World events will begin on 24 March 2023 and travel to cities on all five continents. This event is for alumni and students who are currently living and working in different cities worldwide. For its fifth edition, Audencian ambassadors around the world are being creative, inventive and resourceful in devising activities for their alumni communities. Your challenge, should you choose to accept it, is to join them!\n\nDiscover what else is happening Around the World in 2023:\n\n \n\n\n\n\nIf you can’t find an event taking place near you, drop us a line and we’ll help you set one up!
BEGIN:VALARM
ACTION:DISPLAY
TRIGGER:-PT60M
DESCRIPTION:Audencia Around the World in London
END:VALARM
END:VEVENT
END:VCALENDAR