BEGIN:VCALENDAR
VERSION:2.0
X-WR-TIMEZONE:Europe/Paris
PRODID:-//Audencia//NONSGML v1.0//EN
CALSCALE:GREGORIAN
BEGIN:VEVENT
SUMMARY:Les liaisons vertueuses en milieu professionnel : du réseau aux liens ! [Atelier]
DTSTART:20230511T084500
DTEND:20230511T091500
UID:1521
DTSTAMP:20260425T211354
LOCATION:
DESCRIPTION: \n\nCliquez ici pour rejoindre le Webinaire\n \n\nSur cette idée de « liens » plutôt que de « réseaux professionnels » Julie Guény (GE 01), co-fondatrice de la start-up Reliez-vous, propose un témoignage de son expérience.\n \n\n	En quoi la création de liens est précieuse en milieu professionnel ?\n	Comment faire vivre et développer son maillage ?\n\nProfitez de cette occasion pour agrandir le vôtre ! Ce témoignage sera suivi d’échanges sur votre perception des liens et la réseau-nance pour vous.\n\n\nRelions-nous !\n\n
BEGIN:VALARM
ACTION:DISPLAY
TRIGGER:-PT60M
DESCRIPTION:Les liaisons vertueuses en milieu professionnel : du réseau aux liens ! [Atelier]
END:VALARM
END:VEVENT
END:VCALENDAR