BEGIN:VCALENDAR
VERSION:2.0
X-WR-TIMEZONE:Europe/Paris
PRODID:-//Audencia//NONSGML v1.0//EN
CALSCALE:GREGORIAN
BEGIN:VEVENT
SUMMARY:Club Run Audencia : La Grande Course du Grand Paris
DTSTART:20230312T090000
DTEND:20230312T130000
UID:1520
DTSTAMP:20260425T211249
LOCATION:Stade de France Paris
DESCRIPTION: \nLe Club Run Audencia participe à la Grande Course du Grand Paris le dimanche 12 mars.\n\n\n\n\nQuestion ? : nushad.merchant@audencia.com
BEGIN:VALARM
ACTION:DISPLAY
TRIGGER:-PT60M
DESCRIPTION:Club Run Audencia : La Grande Course du Grand Paris
END:VALARM
END:VEVENT
END:VCALENDAR