BEGIN:VCALENDAR
VERSION:2.0
X-WR-TIMEZONE:Europe/Paris
PRODID:-//Audencia//NONSGML v1.0//EN
CALSCALE:GREGORIAN
BEGIN:VEVENT
SUMMARY:Atelier-débat  : "e-réputation, social selling et stratégie d'influence sur les réseaux sociaux"
DTSTART:20180125T190000
DTEND:20180125T220000
UID:152
DTSTAMP:20260425T205718
LOCATION:Campus Audencia 95 rue Falguière, Paris 15ème
DESCRIPTION:E-reputation, stratégie d'influence,  social selling...\nComment développer visibilité et notoriété  sur les réseaux sociaux en 2018 ?\nA l'heure où poster sur les médias sociaux n'a jamais été aussi simple, nombre de questions se posent pour s'assurer une présence efficace et stratégique sur la toile, sans perdre son temps. \n\nQuels contenus partager? Quels publics cibler ? Comment analyser les données pour mesurer son impact? Quelles seront les tendances fortes de l'année? \nSur LinkedIn, faut-il passer à la vidéo? Est-il encore utile de rédiger des articles? Faut-il viser les 5000, 10 000 contacts, ou mieux vaut-il restreindre son réseau à un cercle trié sur le volet? \n\nEn bref, comment susciter un réel engagement avec autrui et dans quel but? \n\nCet atelier-débat sera animé par : \n\n\n	Corinne Hirsch, Dirigeante d'Aequiso,  coFondatrice du Laboratoire de l'Egalité, Vice Présidente Think Tanks Professional Women at Work\n	Fabrice Brianson, Président de Just Amazing- Brand Identity, Digital design, Content marketing\n	Brigitte Neveu-Dérotrie, Dirigeante de Yélen, Conseil & formations communication réseaux sociaux B2B, co-animatrice du club marketing-digital Paris \n	Sébastien Bouillet, co-fondateur de l’agence Influence4you\n\n\nCes experts et influenceurs reconnus ont su construire très rapidement leur notoriété sur les réseaux sociaux.\n\nVenez débattre avec eux  et repartez avec des réponses à toutes vos questions brulantes mais aussi une vision élargie des tendances à venir et des actions à prioriser en 2018.\n \n\nCorinne Hirsch :\nA travers ses conseils, conférences et formations, Corinne Hirsch aide les entreprises à maîtriser leur politique d'égalité professionnelle entre les femmes et les hommes.\nMembre active de PWN Paris, Vice-présidente en charge des Think Tanks de PWN Paris, elle coordonne en 2008 le « Baromètre de confiance des femmes cadres », intégré dans le rapport de Brigitte Grésy sur l’égalité professionnelle.\nEn 2009 elle participe à la fondation du Laboratoire de l’égalité et en devient administratrice.\nEn 2010, elle développe la Fondation des femmes pour la Méditerranée en tant que Déléguée générale.\n \n\nFabrice Brianson\n\nAprès avoir passé plusieurs décennies en agences de communication, Fabrice Brianson créé sa propre entreprise il y deux ans, Just Amazing. Il était en effet temps pour lui de réinventer le vieux métier de la communication en s'inspirant des méthodes agiles et efficaces des startups. \n"Good Design is Good Business" est la devise de Just Amazing. Sa mission : rendre les individus, les entreprises et les marques, remarquables.\nRemarquables par la cohérence de leur identité, leur logo, leur discours, leurs visuels, leur écosystème digital et leur présence sur les réseaux sociaux jusqu'aux visuels Instagram.\nPour en savoir plus http://jamz.co Twitter : https://twitter.com/fab_brianson\n\nSébastien Bouillet : \nAprès une première expérience entrepreneuriale dans le secteur du jeu vidéo, Sébastien et son frère découvrent le phénomène des influenceurs sur les réseaux sociaux. Présents depuis 2012 sur ce secteur, ils accompagnent des centaines de marques européennes (et désormais asiatiques) sur des campagnes de promotion de produits/services/apps ou de changement d’image grâce à la puissance et à la caution d’influenceurs. Ils interviennent sur tous les réseaux sociaux et blogs via leurs équipes projets ou leur plateforme www.influence4brands.com\n\n 
BEGIN:VALARM
ACTION:DISPLAY
TRIGGER:-PT60M
DESCRIPTION:Atelier-débat  : "e-réputation, social selling et stratégie d'influence sur les réseaux sociaux"
END:VALARM
END:VEVENT
END:VCALENDAR