BEGIN:VCALENDAR
VERSION:2.0
X-WR-TIMEZONE:Europe/Paris
PRODID:-//Audencia//NONSGML v1.0//EN
CALSCALE:GREGORIAN
BEGIN:VEVENT
SUMMARY:Audencia Around the World in Fès
DTSTART:20230401T200000
DTEND:20230401T213000
UID:1519
DTSTAMP:20260425T211249
LOCATION:Fès - exact venue coming soon!
DESCRIPTION:#Audencia_Worldwide\n\nAlumni in Fès will be participating in the 2023 Around The World celebrations.\n\nOn the occasion of professor Mickael Naulleau's visit, this is an opportunnity to connect alumni and current students. Join them on Saturday from 20:00 to 21:30. We will confirm the exact address ASAP!\n\n\n\n\nAround the World events will begin on 24 March 2023 and travel to cities on all five continents. This event is for alumni and students who are currently living and working in different cities worldwide. For its fifth edition, Audencian ambassadors around the world are being creative, inventive and resourceful in devising activities for their alumni communities. Your challenge, should you choose to accept it, is to join them!\n\nDiscover what else is happening Around the World in 2023:\n\n \n\n\n\n\nIf you can’t find an event taking place near you, drop us a line and we’ll help you set one up!
BEGIN:VALARM
ACTION:DISPLAY
TRIGGER:-PT60M
DESCRIPTION:Audencia Around the World in Fès
END:VALARM
END:VEVENT
END:VCALENDAR