BEGIN:VCALENDAR
VERSION:2.0
X-WR-TIMEZONE:Europe/Paris
PRODID:-//Audencia//NONSGML v1.0//EN
CALSCALE:GREGORIAN
BEGIN:VEVENT
SUMMARY:Audencia Around the World in Baku
DTSTART:20230401T180000
DTEND:20230401T193000
UID:1518
DTSTAMP:20260425T211243
LOCATION:Baku - offline and online venues to be confirmed asap!
DESCRIPTION:#Audencia_Worldwide\n\nAlumni in Baku will be participating in the 2023 Around The World celebrations.\n\nJoin them on Saturday 1 April from 18:00 to 19:30.\n\nThe idea is to meet in person (offline) in Baku and connect (offline) with former classmates from Azerbaijan who are working elsewhere. \n\nMore details coming soon!\n \n\n \n\n\n\n\nAround the World events will begin on 24 March 2023 and travel to cities on all five continents. This event is for alumni and students who are currently living and working in different cities worldwide. For its fifth edition, Audencian ambassadors around the world are being creative, inventive and resourceful in devising activities for their alumni communities. Your challenge, should you choose to accept it, is to join them!\n\nDiscover what else is happening Around the World in 2023:\n\n \n\n\n\n\nIf you can’t find an event taking place near you, drop us a line and we’ll help you set one up!
BEGIN:VALARM
ACTION:DISPLAY
TRIGGER:-PT60M
DESCRIPTION:Audencia Around the World in Baku
END:VALARM
END:VEVENT
END:VCALENDAR