BEGIN:VCALENDAR
VERSION:2.0
X-WR-TIMEZONE:Europe/Paris
PRODID:-//Audencia//NONSGML v1.0//EN
CALSCALE:GREGORIAN
BEGIN:VEVENT
SUMMARY:Club Culture & Management : Metavers, création et propriété intellectuelle
DTSTART:20230329T190000
DTEND:20230329T210000
UID:1516
DTSTAMP:20260425T211242
LOCATION:SITEM Salon international des musées Carrousel du Louvre 75001 PARIS
DESCRIPTION:\nChers amis et adhérents,\n\nLe Club Culture & Management et le SITEM s'associent pour vous proposer mercredi 29 mars d'échanger sur le métavers et ses implications en termes de propriété intellectuelle.\n\nLe metavers est annoncé comme le nouvel univers d'une création infinie et immersive, portée par l'intelligence artificielle et la réalité virtuelle.\n\nAu delà des expérimentations en cours, la création de contenus devrait devenir un enjeu majeur d'attractivité des plateformes.\n\nVenez en débattre avec nos intervenants :\n\n\n	Juliette Félix, avocate associée chez Herald, spécialisée en droit des médias, propriété intellectuelle et nouvelles technologies\n\n\n\n	Cédric Bensoussan, PDG de Interactive Studio\n\n\n\n	Éric Briones, directeur général du Journal du Luxe, co-Fondateur de Paris School of Luxury et planneur stratégique chez Darkplanning\n\n\n \n\nRéservez votre place dès maintenant !\n\n \n\nModalités d'accueil en présentiel :\n\n- Le débat aura lieu au SITEM de 19h à 21h. Le débat sera suivi d'un cocktail, l'occasion d'échanger entre professionnels du secteur.\n\n- La réservation au débat vous donne accès au SITEM qui se tiendra les 28, 29 et 30 mars. Vous pourrez venir visiter notre stand et rencontrer les startups lauréates du Prix Innovation Culture & Management. Pour obtenir votre badge gratuit, connectez-vous à la billetterie du SITEM et indiquez ce code promotionnel SITEM23CCM.\n\n- Si vous bénéficiez d'un tarif spécial (tarif chômeur ou tarif étudiant à 15 €), vous devrez nous présenter un justificatif de moins de 3 mois.\n\n \n\nAu plaisir de vous retrouver,\n\nL'équipe du Club Culture & Management\n \n\n\n\n\n\n 
BEGIN:VALARM
ACTION:DISPLAY
TRIGGER:-PT60M
DESCRIPTION:Club Culture & Management : Metavers, création et propriété intellectuelle
END:VALARM
END:VEVENT
END:VCALENDAR