BEGIN:VCALENDAR
VERSION:2.0
X-WR-TIMEZONE:Europe/Paris
PRODID:-//Audencia//NONSGML v1.0//EN
CALSCALE:GREGORIAN
BEGIN:VEVENT
SUMMARY:Audencia Around the World in Brussels
DTSTART:20230404T180000
DTEND:20230404T193000
UID:1515
DTSTAMP:20260425T211248
LOCATION:Eurocities 1 Square de Meeûs 1000 Brussels
DESCRIPTION:#Audencia_Worldwide\n\nAlumni in Brussels will be participating in the 2023 Around The World celebrations.\n\nAndré Sobczak, Secretary General of Eurocities and board member of the Audencia Foundation will be hosting this alumni event. Join him and your fellow Audencia Alumni on Tuesday 4 April from 18:00 to 19:30 at Eurocities, 1 Square de Meeûs, 1000 Brussels, Belgium\n\nOn the agenda:\n\n\n	18:00-18:45 André will give a presentation entitled "City to city cooperation & solidarity" followed by a Q&A\n	18:45-19:30 Informal networking and refreshments\n	 \n\n\n\n\n\nAround the World events will begin on 24 March 2023 and travel to cities on all five continents. This event is for alumni and students who are currently living and working in different cities worldwide. For its fifth edition, Audencian ambassadors around the world are being creative, inventive and resourceful in devising activities for their alumni communities. Your challenge, should you choose to accept it, is to join them!\n\nDiscover what else is happening Around the World in 2023:\n\n \n\n\n\n\nIf you can’t find an event taking place near you, drop us a line and we’ll help you set one up!
BEGIN:VALARM
ACTION:DISPLAY
TRIGGER:-PT60M
DESCRIPTION:Audencia Around the World in Brussels
END:VALARM
END:VEVENT
END:VCALENDAR