BEGIN:VCALENDAR
VERSION:2.0
X-WR-TIMEZONE:Europe/Paris
PRODID:-//Audencia//NONSGML v1.0//EN
CALSCALE:GREGORIAN
BEGIN:VEVENT
SUMMARY:Audencia Around the World in Geneva
DTSTART:20230329T190000
DTEND:20230329T220000
UID:1513
DTSTAMP:20260425T211250
LOCATION:Garden & Cooking  Chemin Marc-Charrot, 2 1228 Plan-les-Ouates SWITZERLAND
DESCRIPTION:#Audencia_Worldwide\n\nAlumni in Geneva will be participating in the 2023 Around The World celebrations.\n\nJoin them on Wednesday 29 March from 19:00 to 22:00 at Garden & Cooking, Chemin Marc-Charrot 2, 1228 Plan-les-Ouates.\n\nThe evening will begin with a presentation on how the team at Garden & Cooking aim to help people eat better and locally, followed by a themed cocktail. \n\nOnly 15 places available, so get yours now (5€ per person)!\n\n\n\n\nAround the World events will begin on 24 March 2023 and travel to cities on all five continents. This event is for alumni and students who are currently living and working in different cities worldwide. For its fifth edition, Audencian ambassadors around the world are being creative, inventive and resourceful in devising activities for their alumni communities. Your challenge, should you choose to accept it, is to join them!\n\nDiscover what else is happening Around the World in 2023:\n\n \n\n\n\n\nIf you can’t find an event taking place near you, drop us a line and we’ll help you set one up!
BEGIN:VALARM
ACTION:DISPLAY
TRIGGER:-PT60M
DESCRIPTION:Audencia Around the World in Geneva
END:VALARM
END:VEVENT
END:VCALENDAR