BEGIN:VCALENDAR
VERSION:2.0
X-WR-TIMEZONE:Europe/Paris
PRODID:-//Audencia//NONSGML v1.0//EN
CALSCALE:GREGORIAN
BEGIN:VEVENT
SUMMARY:MS MOS : Quels héritages pour les Jeux Paralympiques 2024 ?
DTSTART:20230321T180000
DTEND:20230321T200000
UID:1512
DTSTAMP:20260425T211249
LOCATION:La Française des Jeux 3 Quai du Point du Jour  Auditorium FDJ  92100 Boulogne-Billancourt
DESCRIPTION:Le 13 septembre 2017, la ville de Paris obtient officiellement l’organisation des Jeux Olympiques et Paralympiques d’été 2024. Si la ville accueille à nouveau les Jeux Olympiques d’été cent ans après l’édition de Paris 1924, ce sera la première fois qu’elle sera le théâtre des Jeux Paralympiques d’été.\n \n\nCet évènement, considéré comme le plus grand événement parasportif au monde, permettra de rassembler et de mettre en lumière des sportifs et des enjeux souvent en retrait des préoccupations nationales, aussi bien d’un point de vue politique, économique, sociétal ou encore médiatique.\n \n\nAujourd’hui en France le handicap, quelle que soit sa forme, est la réalité de 12 millions de personnes, soit 18% de la population. Au-delà des bienfaits physiques, le sport est un excellent vecteur d’intégration et de participation sociale. Si les Jeux Paralympiques mettront en lumière des performances sportives de très haut niveau, leur héritage doit permettre de dynamiser la pratique du parasport au bénéfice de toutes et tous.\n \n\nDans le cadre d’un projet pédagogique encadré par le Think tank Sport et Citoyenneté, les étudiants du Mastère Spécialisé® en Management Responsable des Organisations Sportives d’Audencia ont mené une réflexion sur le statut, les avancées et les perspectives de développement du parasport à l’aube des Jeux Paralympiques de Paris 2024. Cette conférence-débat est la conclusion de ce projet. Elle a vocation à interroger les héritages possibles des Jeux Paralympiques de Paris 2024 et à analyser les perspectives de développement du parasport en France.\n\nLes intervenants :\n\n Ludivine MUNOS, Responsable Intégration paralympique Paris 2024 - Comité d'organisation des Jeux Olympiques et Paralympiques de 2024, triple championne paralympique (para-natation) et #marraine du MOS 2023\n\n Elie Patrigeon, Directeur général du Comité Paralympique et Sportif Français\n\n Nicolas Forstmann, Coordinateur du projet PARAPERF, Institut de Recherche bio-Médicale et d’Epidémiologie du Sport (IRMES) INSEP - Institut National du Sport, de l'Expertise et de la Performance\n\n Cyril MORÉ, quintuple champion paralympique (escrime), champion du monde (escrime, ski), membre du International Paralympic Committee, consultant, commentateur et ambassadeur du Comité Paralympique et Sportif Français.\n\n Anna Nowak-Rivière, Responsable mécénat, Fondation FDJ\n\n Philippe CHERVIN, Secrétaire général de la FIRAH - Fondation Internationale de Recherche Appliquée sur le Handicap\n\n Cette conférence-débat bénéficie du parrainage du Ministère des Sports et des Jeux Olympiques et Paralympiques\n \n\nInscrivez-vous \n\n\n\n\n\n\n\n 
BEGIN:VALARM
ACTION:DISPLAY
TRIGGER:-PT60M
DESCRIPTION:MS MOS : Quels héritages pour les Jeux Paralympiques 2024 ?
END:VALARM
END:VEVENT
END:VCALENDAR