BEGIN:VCALENDAR
VERSION:2.0
X-WR-TIMEZONE:Europe/Paris
PRODID:-//Audencia//NONSGML v1.0//EN
CALSCALE:GREGORIAN
BEGIN:VEVENT
SUMMARY:Prix des Ressources Humaines - 5ème édition Grand Ouest
DTSTART:20180201T180000
DTEND:20180201T180000
UID:151
DTSTAMP:20260425T223737
LOCATION:Audencia, 8 route de la Jonelière, Nantes
DESCRIPTION:Michael Page et l’ANDRH Grand-Ouest ont le plaisir de vous inviter à la cérémonie de la 5ème édition du Prix des Ressources Humaines Grand-Ouest qui récompense des équipes RH de la région pour leurs contributions au développement de leur entreprise et leurs initiatives innovantes en matière de ressources humaines.\n\nElle sera parrainée par Laurence Vanhee, Chief Happiness Officer chez Happyformance, DRH de l'année en Belgique en 2012.\n \n\nJEUDI 1er FEVRIER 2018 à 18h00\n\n\nPROGRAMME\n18h00 : Accueil\n18h30 - 20h15 \n\n\n	Ouverture de la cérémonie\n	Présentation des candidats et de leurs initiatives\n	Remise des trophées\n	Conférence de Laurence Vanhee « Les transformations positives »\n\n\nDans un monde en pleine mutation, quel rôle doivent jouer les RH pour permettre aux organisations de se transformer positivement, en utilisant le bonheur au travail et la performance collective comme levier de développement pérenne ?\n\n20h15 : Cocktail dinatoire\n \n\n>> Inscription obligatoire à la cérémonie <<\n\n\n\nDécouvrez les projets des entreprises candidates à la 5ème édition Grand Ouest du Prix des Ressources Humaines\n\nCONTACT\nFlorent Gillet, Manager Exécutif Senior - Michael Page
BEGIN:VALARM
ACTION:DISPLAY
TRIGGER:-PT60M
DESCRIPTION:Prix des Ressources Humaines - 5ème édition Grand Ouest
END:VALARM
END:VEVENT
END:VCALENDAR