BEGIN:VCALENDAR
VERSION:2.0
X-WR-TIMEZONE:Europe/Paris
PRODID:-//Audencia//NONSGML v1.0//EN
CALSCALE:GREGORIAN
BEGIN:VEVENT
SUMMARY:Hiking in Kamakura, Japan
DTSTART:20230422T030000
DTEND:20230422T080000
UID:1507
DTSTAMP:20260425T205949
LOCATION:JR KITA KAMAKURA Station, Japan
DESCRIPTION:Day Kamakura Hiking Trail (Ten-en Hiking Course)\n\nHi, everyone!\n\nWe are planning to climb up to the hill, Kamakura alps in April. The trail to the summit takes approx 3 hrs. Let’s wander along and appreciate nature! \n\nDATE: 22.04.2023\nTIME:  10:00am\nWHERE: JR KITA KAMAKURA STATION \n\nFor more information: https://www.kanpai.fr/kamakura/chemin-randonnee-tenen\n\nLooking forward to seeing you! \n\nMinami Iwasawa\n\nJapan Alumni Ambassador\n \nQuestions? tcliu@audencia.com
BEGIN:VALARM
ACTION:DISPLAY
TRIGGER:-PT60M
DESCRIPTION:Hiking in Kamakura, Japan
END:VALARM
END:VEVENT
END:VCALENDAR