BEGIN:VCALENDAR
VERSION:2.0
X-WR-TIMEZONE:Europe/Paris
PRODID:-//Audencia//NONSGML v1.0//EN
CALSCALE:GREGORIAN
BEGIN:VEVENT
SUMMARY:Audencia Around the World in Shanghai
DTSTART:20230415T093000
DTEND:20230415T113000
UID:1506
DTSTAMP:20260425T210047
LOCATION:Shanghai, China
DESCRIPTION:#Audencia_Worldwide\n\nAlumni in Shanghai will be participating in the 2023 Around The World celebrations.\n\nJoin our alumni ambassador Yiwen XIE and our Alumni Relations Manager Cici Ting LIU on Saturday 15 April from 15:30 to 17:30 near Shanghai Stadium for a Frisbee Challenge!\n \n\n\n\n\nAround the World events will begin on 24 March 2023 and travel to cities on all five continents in a few weeks time. This event is for alumni and students who are currently living and working in different cities worldwide. For its fifth edition, Audencian ambassadors around the world are being creative, inventive and resourceful in devising activities for their alumni communities. Your challenge, should you choose to accept it, is to join them!\n\nDiscover what else is happening Around the World in 2023:\n \n\n\n\n\nIf you can’t find an event taking place near you, drop us a line and we’ll help you set one up!
BEGIN:VALARM
ACTION:DISPLAY
TRIGGER:-PT60M
DESCRIPTION:Audencia Around the World in Shanghai
END:VALARM
END:VEVENT
END:VCALENDAR