BEGIN:VCALENDAR
VERSION:2.0
X-WR-TIMEZONE:Europe/Paris
PRODID:-//Audencia//NONSGML v1.0//EN
CALSCALE:GREGORIAN
BEGIN:VEVENT
SUMMARY:Webinar: Le développement humain au coeur de votre performance
DTSTART:20230223T114500
DTEND:20230223T123000
UID:1500
DTSTAMP:20260425T210603
LOCATION:
DESCRIPTION:Osez le développement humain au cœur de votre performance !\n\nDate: jeudi 23 février 2023\nHoraires: 11:45 à 12:30\n \nInscription gratuite ici\n\n« Pourquoi travailler pour développer une entreprise, qui ne contribue pas à mon propre développement ? » C’est la question que se pose aujourd’hui chaque salarié. Et encore plus depuis la crise COVID !\nSi le travail est considéré comme un acte de productivité, sa dimension développementale est peu prise en compte. Les enjeux sont pourtant de taille : sens au travail, marque employeur, fidélisation, engagement, agilité, productivité, performance, impact social… Ça vous parle ?\nBeaucoup d’entreprises mesurent leur empreinte carbone, mais peu encore mesurent leur empreinte Développement Humain.\nGildas Perrot (ExecMBA 12), Président, LGP Conseil et Anne-Sophie Briffault, Consultante Psychologue, LGP Conseil, vous proposeront les clés opérationnelles de ce puissant levier de performances qu’est le Développement Humain au cœur des organisations de travail.\n \n  
BEGIN:VALARM
ACTION:DISPLAY
TRIGGER:-PT60M
DESCRIPTION:Webinar: Le développement humain au coeur de votre performance
END:VALARM
END:VEVENT
END:VCALENDAR