BEGIN:VCALENDAR
VERSION:2.0
X-WR-TIMEZONE:Europe/Paris
PRODID:-//Audencia//NONSGML v1.0//EN
CALSCALE:GREGORIAN
BEGIN:VEVENT
SUMMARY:Networking in Abu Dhabi, UAE
DTSTART:20170514T080000
DTEND:20170514T100000
UID:15
DTSTAMP:20260425T210150
LOCATION:INSEAD Muroor Road, Abu Dhabi
DESCRIPTION:AMBA, the Association of MBAs, is organising a networking event.\n\nJoin them in Abu Dhabi, Capital of the UAE on 14 May 2017 for an opportunity to meet and network with fellow students and graduates of AMBA-accredited programmes.\n \nLocation: INSEAD\nDate: 14 May 2017\nTime: 08.00 to 10.00\n\nAddress: Muroor Road\nAbu Dhabi\nUAE\nP.O. Box 48049\nTelephone: +971 2 651 5200\n\nThis event is aimed at alumni of AMBA-accredited programmes. At Audencia, these programmes are: Executive MBA, MBA in Responsible Management and Master in Management (Grande Ecole Programme). The event is free for AMBA members but registration is required. Registering as an alumus/alumna of an AMBA-accredited programme takes only a few minutes.\nGo to www.mbaworld.com/communitysignup \n\n	complete your personal details\n	select ‘Graduate’ from the ‘I am a’ drop down\n	select your Business School\n	enter the following access key: G25912\n\nOnce you have registered as an AMBA alum, you can register for the event.\n\nIf you have any questions about registering, please contact the AMBA Membership Team who will be happy to help.\n 
BEGIN:VALARM
ACTION:DISPLAY
TRIGGER:-PT60M
DESCRIPTION:Networking in Abu Dhabi, UAE
END:VALARM
END:VEVENT
END:VCALENDAR