BEGIN:VCALENDAR
VERSION:2.0
X-WR-TIMEZONE:Europe/Paris
PRODID:-//Audencia//NONSGML v1.0//EN
CALSCALE:GREGORIAN
BEGIN:VEVENT
SUMMARY:Femmes & leadership responsable : la diversité comme accélérateur de la transformation à impact
DTSTART:20230314T190000
DTEND:20230314T203000
UID:1499
DTSTAMP:20260425T210150
LOCATION:Atlantic Campus 8 route de la Jonelière 44300 Nantes
DESCRIPTION:\n\n	\n		\n			Dans le cadre de ses travaux sur l'égalité professionnelle Femmes-Hommes, la chaire Impact Positif questionne le lien entre le leadership responsable et la place des femmes dans l'économie : \n			\n			De quelle manière la mixité à des postes décisionnaires favorise la transition vers un modèle économique plus responsable ?\n			 \n			Plafond de verre, échecs et réussites, mixité et diversité ou encore transition économique responsable seront abordés sans tabous avec nos invitées !\n		\n	\n\n \n\n\n	\n		\n			    Au programme    \n			Femmes & leadership responsable :\n			la diversité comme accélérateur de la transformation à impact\n			\n			\n			Animée par Gaëlle BOUFFARD, journaliste et avec :\n\n			\n				Marie-Agnès CHESNEAU-LANGEVIN, Directrice Générale adjointe, Caisse régionale Crédit Agricole Atlantique - Vendée\n				Laurence POIRIER-DIETZ, Directrice Générale, GRDF\n				Isabelle SAVIANE, Directrice des Ressources Humaines, Groupe Eram\n			\n			\n		\n	\n\n \n\n\n	\n		\n			\n			\n				\n					\n						\n						\n							\n								\n									\n									JE M'INSCRIS\n									\n								\n							\n						\n\n						 \n						\n					\n				\n			\n			\n		\n	\n\n \n\n\n	\n		\n			\n			\n				\n					\n						La table ronde sera suivie d'un cocktail.\n					\n				\n			\n			\n		\n	\n\n \n\n\n	\n		\n			\n			\n				\n					\n						\n						\n							\n								\n									\n									\n										\n											\n												 POUR VENIR : PENSEZ MOBILITÉ DOUCE ! \n												\n													Tram L2 : arrêt École Centrale-Audencia\n													Bus C20 : arrêt Facultés\n													Bus 80 : arrêt Facultés\n												\n												\n											\n										\n									\n									\n									\n									\n										\n											\n												\n												\n													\n														\n															\n														\n													\n												\n												\n											\n										\n									\n									\n								\n							\n						\n						\n					\n				\n			\n			\n		\n	\n\n \n\n\n	\n		\n			\n			\n				\n					\n						\n					\n				\n			\n			\n		\n	\n
BEGIN:VALARM
ACTION:DISPLAY
TRIGGER:-PT60M
DESCRIPTION:Femmes & leadership responsable : la diversité comme accélérateur de la transformation à impact
END:VALARM
END:VEVENT
END:VCALENDAR