BEGIN:VCALENDAR
VERSION:2.0
X-WR-TIMEZONE:Europe/Paris
PRODID:-//Audencia//NONSGML v1.0//EN
CALSCALE:GREGORIAN
BEGIN:VEVENT
SUMMARY:Audencia Around the World in Toronto
DTSTART:20230330T190000
DTEND:20230330T220000
UID:1498
DTSTAMP:20260425T210115
LOCATION:Mill Street Brew Pub 21 Tank House Lane Toronto
DESCRIPTION:#Audencia_Worldwide\n\nAlumni in Toronto will be participating in the 2023 Around The World celebrations. Audencia's Head of the Alumni Team, Matthieu Bonnamy (EAC 08) will be there too to share news of the school and the network.\n\nJoin them on Thursday 30 March at 7:00pm at [!CHANGE OF VENUE!] the Mill Street Brew Pub, 21 Tank House Lane, Toronto\n\n\n\n\nAround the World events will begin on 24 March 2023 and travel to cities on all five continents before coming to a close on 10 April. This event is for alumni and students who are currently living and working in different cities worldwide. For its fifth edition, Audencian ambassadors around the world are being creative, inventive and resourceful in devising activities for their alumni communities. Your challenge, should you choose to accept it, is to join them!\n\nDiscover what else is happening Around the World in 2023:\n\n \n\n\n\n\nIf you can’t find an event taking place near you, drop us a line and we’ll help you set one up!
BEGIN:VALARM
ACTION:DISPLAY
TRIGGER:-PT60M
DESCRIPTION:Audencia Around the World in Toronto
END:VALARM
END:VEVENT
END:VCALENDAR