BEGIN:VCALENDAR
VERSION:2.0
X-WR-TIMEZONE:Europe/Paris
PRODID:-//Audencia//NONSGML v1.0//EN
CALSCALE:GREGORIAN
BEGIN:VEVENT
SUMMARY:Audencia Around the World in Munich
DTSTART:20230406T180000
DTEND:20230406T220000
UID:1496
DTSTAMP:20260425T210210
LOCATION:Munich - Mannhardtstr. 6 à 18H30 avec une présentation de Gaultier Francq, ensuite afterwork à 20H au Augustinerbräu (Landsberger Str. 19) ensuite Afterwork
DESCRIPTION:#Audencia_Worldwide\n\nAlumni in Munich will be participating in the 2023 Around The World celebrations.\n\nJoin them on Thursday 6 April - 18H30 à Mannhardtstr. 6, ensuite -20H-  Afterwork au Augustiner Bräustuben (Landsbergerstr. 19)!\n \n\n\n\n\nAround the World events will begin on 24 March 2023 and travel to cities on all five continents. This event is for alumni and students who are currently living and working in different cities worldwide. For its fifth edition, Audencian ambassadors around the world are being creative, inventive and resourceful in devising activities for their alumni communities. Your challenge, should you choose to accept it, is to join them!\n\nDiscover what else is happening Around the World in 2023:\n\n \n\n\n\n\nIf you can’t find an event taking place near you, drop us a line and we’ll help you set one up!
BEGIN:VALARM
ACTION:DISPLAY
TRIGGER:-PT60M
DESCRIPTION:Audencia Around the World in Munich
END:VALARM
END:VEVENT
END:VCALENDAR