BEGIN:VCALENDAR
VERSION:2.0
X-WR-TIMEZONE:Europe/Paris
PRODID:-//Audencia//NONSGML v1.0//EN
CALSCALE:GREGORIAN
BEGIN:VEVENT
SUMMARY:Audencia Around the World in New York
DTSTART:20230404T190000
DTEND:20230404T220000
UID:1495
DTSTAMP:20260425T210431
LOCATION:Grand Central Station New York
DESCRIPTION:#Audencia_Worldwide\n\nAlumni in New York will be participating in the 2023 Around The World celebrations.\n\nJoin them on Tuesday 4 April at 7pm on the dot under New York's Grand Central clock station for a treasure hunt. Look out for the Audencia Alumni banner! Afterwards, there will be refreshments at Luke's Lobster. \n \n\n\n\n\nAround the World events will begin on 24 March 2023 and travel to cities on all five continents. This event is for alumni and students who are currently living and working in different cities worldwide. For its fifth edition, Audencian ambassadors around the world are being creative, inventive and resourceful in devising activities for their alumni communities. Your challenge, should you choose to accept it, is to join them!\n\nDiscover what else is happening Around the World in 2023:\n\n \n\n\n\n\nIf you can’t find an event taking place near you, drop us a line and we’ll help you set one up!
BEGIN:VALARM
ACTION:DISPLAY
TRIGGER:-PT60M
DESCRIPTION:Audencia Around the World in New York
END:VALARM
END:VEVENT
END:VCALENDAR