BEGIN:VCALENDAR
VERSION:2.0
X-WR-TIMEZONE:Europe/Paris
PRODID:-//Audencia//NONSGML v1.0//EN
CALSCALE:GREGORIAN
BEGIN:VEVENT
SUMMARY:Audencia Around the World in Montréal
DTSTART:20230328T170000
DTEND:20230328T190000
UID:1492
DTSTAMP:20260425T210117
LOCATION:Fitzroy 551 Mont-Royal Avenue Est Montreal Quebec H2J 1W4
DESCRIPTION:#Audencia_Worldwide\n\nAlumni in Montréal will be participating in the 2023 Around The World celebrations.\n\nNous sommes ravis d'organiser un 5@7 le mardi 28 mars pour se retrouver pour la première fois en cette année 2023! Ce sera L'occasion de faire de nouvelles rencontres, de prendre des nouvelles des uns et des autres, y compris de notre chère école puisque Matthieu Bonnamy, Head of Audencia Alumni, sera présent car l'événement s'inscrit dans l'initiative Audencia Around the World!\n\nRendez-vous au Fitzroy au 551 Mont-Royal Avenue Est (à 30 secondes de la station Mont-Royal!)\n\nPour la coordination des participants, j'ai créé un événement Facebook.\n\nAmitiés,\nLoïc Leroux-Gaullier, votre ambassadeur Montréal\n\nPS: Pensez à rejoindre notre groupe Facebook Montréal!\n\n\n\n\nAround the World events will begin on 24 March 2023 and travel to cities on all five continents before coming to a close on 10 April. This event is for alumni and students who are currently living and working in different cities worldwide. For its fifth edition, Audencian ambassadors around the world are being creative, inventive and resourceful in devising activities for their alumni communities. Your challenge, should you choose to accept it, is to join them!\n\nDiscover what else is happening Around the World in 2023:\n\n \n\n\n\n\nIf you can’t find an event taking place near you, drop us a line and we’ll help you set one up!
BEGIN:VALARM
ACTION:DISPLAY
TRIGGER:-PT60M
DESCRIPTION:Audencia Around the World in Montréal
END:VALARM
END:VEVENT
END:VCALENDAR