BEGIN:VCALENDAR
VERSION:2.0
X-WR-TIMEZONE:Europe/Paris
PRODID:-//Audencia//NONSGML v1.0//EN
CALSCALE:GREGORIAN
BEGIN:VEVENT
SUMMARY:Audencia Around the World in Casablanca
DTSTART:20230330T180000
DTEND:20230330T220000
UID:1491
DTSTAMP:20260425T210046
LOCATION:Restaurant Sens Hôtel Kenzi Tower 27 Etage, فندق برج كنزي،  Bd Mohamed Zerktouni Casablanca 20100 Morocco
DESCRIPTION:#Audencia_Worldwide\n\nAlumni in Casablanca will be participating in the 2023 Around The World celebrations.\n\nJoin them for a ftour and a conversation with Christophe Germain, Dean of Audencia, on Thursday 30 March at the Restaurant Sens, 27th Floor, فندق برج كنزي، Bd Mohamed Zerktouni, Casablanca 20100\n\nOn the programme:\n\n\n	18:00 Welcome\n	18:30 Presentation by the Dean on the latest news from Audencia\n	19:00 Ftour\n	22:00 Event ends\n	 \n\n\n\n\n\nAround the World events will begin on 24 March 2023 and travel to cities on all five continents before coming to a close on 10 April. This event is for alumni and students who are currently living and working in different cities worldwide. For its fifth edition, Audencian ambassadors around the world are being creative, inventive and resourceful in devising activities for their alumni communities. Your challenge, should you choose to accept it, is to join them!\n\nDiscover what else is happening Around the World in 2023:\n\n \n\n\n\n\nIf you can’t find an event taking place near you, drop us a line and we’ll help you set one up!
BEGIN:VALARM
ACTION:DISPLAY
TRIGGER:-PT60M
DESCRIPTION:Audencia Around the World in Casablanca
END:VALARM
END:VEVENT
END:VCALENDAR