BEGIN:VCALENDAR
VERSION:2.0
X-WR-TIMEZONE:Europe/Paris
PRODID:-//Audencia//NONSGML v1.0//EN
CALSCALE:GREGORIAN
BEGIN:VEVENT
SUMMARY:Audencia Around the World in Barcelona
DTSTART:20230325T160000
DTEND:20230325T200000
UID:1490
DTSTAMP:20260425T210123
LOCATION:Barcelona  16:00 - Plaça de Tetuan for the scavenger hunt 18:00 - Pokawai C/ del Bruc, 80 for refreshements
DESCRIPTION:#Audencia_Worldwide\n\nAlumni in Barcelona will be participating in the 2023 Around The World celebrations.\n\nJoin them on Saturday 25 March for a city scavenger hunt followed by well-deserved refreshments.\n\nThe programme of festivities is as follows:\n\n16:00 Meet at Plaça de Tetuan (objective: be on time) where Mathis Etournay will set up groups and launch the scavenger hunt\n\nEach team will have 2 hours to take their picture in front of the following 8 landmarks:\n\n\n	Casa Milá\n	Casa Batlló\n	Sagrada Familia\n	Plaça Catalunya\n	Catedral de Barcelona\n	Arc de Triomf\n	Hospital Sant Pau\n	Basilica Santa Maria del Mar\n\n\n18:00 Debrief, photos, announcing the winning team and refreshments at Pokawai, Bruc 80\n \n\n\n\n\nAround the World events will begin on 24 March 2023 and travel to cities on all five continents before coming to a close on 10 April. This event is for alumni and students who are currently living and working in different cities worldwide. For its fifth edition, Audencian ambassadors around the world are being creative, inventive and resourceful in devising activities for their alumni communities. Your challenge, should you choose to accept it, is to join them!\n\nDiscover what else is happening Around the World in 2023:\n\n \n\n\n\n\nIf you can’t find an event taking place near you, drop us a line and we’ll help you set one up!
BEGIN:VALARM
ACTION:DISPLAY
TRIGGER:-PT60M
DESCRIPTION:Audencia Around the World in Barcelona
END:VALARM
END:VEVENT
END:VCALENDAR