BEGIN:VCALENDAR
VERSION:2.0
X-WR-TIMEZONE:Europe/Paris
PRODID:-//Audencia//NONSGML v1.0//EN
CALSCALE:GREGORIAN
BEGIN:VEVENT
SUMMARY:Conférence: Cybersécurité - un enjeu majeur des entreprises
DTSTART:20180116T173000
DTEND:20180116T184500
UID:149
DTSTAMP:20260425T205731
LOCATION:Audencia Atlantic Campus  8 route de la Jonelière 44300 Nantes Amphi 54
DESCRIPTION:INVITATION \n \nLe début du XXIème siècle a vu la multiplication des piratages de grande ampleur. Ainsi rien qu’en 2017, des entreprises comme Uber, la SEC, Equifax, Renault, Deloitte, l’Université de Stanford ont annoncé avoir été victimes de hackers. Plus alarmant encore, la moitié des américains a été touchée par un piratage en 2017. Alors que les organisations et les individus sont chaque jour de plus interconnectés et dépendants des technologies de l’information, les cyber risques explosent.\n\nLa Chaire Anti-Fraude et Cybersécurité d'Audencia vous propose d'assister à une conférence-débat où seront abordés les tendances, les enjeux et les risques de la cyber sécurité pour les entreprises et les individus ainsi que la lutte contre le développement de cette menace.\n \navec\n\nBertrand VENARD\nProfesseur,Titulaire de la Chaire Anti-Fraude & Cybersécurité\nAudencia Business School\n \nUn expert \nDirection Générale pour la Sécurité Intérieure \nMinistère de l'Intérieur\n \nGratuit\nSur inscription
BEGIN:VALARM
ACTION:DISPLAY
TRIGGER:-PT60M
DESCRIPTION:Conférence: Cybersécurité - un enjeu majeur des entreprises
END:VALARM
END:VEVENT
END:VCALENDAR