BEGIN:VCALENDAR
VERSION:2.0
X-WR-TIMEZONE:Europe/Paris
PRODID:-//Audencia//NONSGML v1.0//EN
CALSCALE:GREGORIAN
BEGIN:VEVENT
SUMMARY:La Relance du Club Business: Soirée ApérOpportunité / The re-launch of Club Business: ApérOpportunity
DTSTART:20230316T193000
DTEND:20230316T220000
UID:1489
DTSTAMP:20260425T210053
LOCATION:Octave 32 Rue Beaurepaire 75010 Paris France
DESCRIPTION:\n\nChers alumni, \n \nSaviez-vous que parmi les 34,000 alumni d'Audencia, environ 1 tiers sont commerciaux, acheteurs, entrepreneurs ou encore dirigeants, donc commercent au quotidien, dont quasiment 40% résidant en Ile de France ?\n \nQuel formidable potentiel relationnel à exploiter ! \n\nSi vous faites partie de l'une de ces 4 catégories et que vous souhaitez vous créer de nouvelles opportunités, l’Audencia Business Club est fait pour vous ! \n \nNous sommes très heureux de vous annoncer la relance du club, grâce auquel pourront se rencontrer en présentiel comme en distanciel tous les acteurs du commerce diplômés d'Audencia. Pour fêter cela, retrouvons-nous le Jeudi 16 mars prochain à 19h30 chez Octave pour la première édition de nos "ApérOpportunité" !\n\nAu programme : réseautage, négoce et convivialité, autour d’un buffet et d’une sélection de vins et boissons de qualité ...\n\nPartageant le même cursus et les mêmes valeurs, nous pensons qu’un commerce interne Audencia Alumni n’en sera que plus vertueux. C’est le pari que nous faisons ! Êtes-vous avec nous ? \n\nAu plaisir de vous rencontrer. \n\nVos ambassadrices Marie ADOUKO & Maodi YU\net l’équipe dynamique de l’Audencia Business Club\n\nVous avez des questions ? tcliu@audencia.com\n\n \n\n-----------------------------------------------------------------------------------------------------------------------------------\n\n\nDear Alumni,\n \nDid you know that among the 34,000 Audencia Alumni, about one-third are in sales, purchasing, entrepreneurship or senior management, i.e. involved in business operations day-to-day, and that nearly 40% of them live in the Paris region?\n \nWhat a great relational potential to exploit!\n \nIf you fall into one of these categories and would like to develop new opportunities, the Audencia Business Club is for you!\n \nWe are very pleased to announce the re-launch of the club, which will allow all Audencia's graduates in the business world to meet and exchange ideas either in-person or remotely. To mark the occasion, we invite you to join us on Thursday, 16 March at 19:30 at Octave for the inaugural edition of our "ApérOpportunity"!\n \nSharing the same curriculum and the same values, we believe that a dedicated Audencia Alumni community will only become more and more valuable. This is what we are aiming for! Are you with us?\n \nLooking forward to meeting all of you!\n \nYour Club Ambassadors Marie ADOUKO, Maodi YU,\nand the dynamic team of Audencia Business Club\n\nAny questions? tcliu@audencia.com\n\n
BEGIN:VALARM
ACTION:DISPLAY
TRIGGER:-PT60M
DESCRIPTION:La Relance du Club Business: Soirée ApérOpportunité / The re-launch of Club Business: ApérOpportunity
END:VALARM
END:VEVENT
END:VCALENDAR