BEGIN:VCALENDAR
VERSION:2.0
X-WR-TIMEZONE:Europe/Paris
PRODID:-//Audencia//NONSGML v1.0//EN
CALSCALE:GREGORIAN
BEGIN:VEVENT
SUMMARY:CCI France Chine Event: [HR Working Group]  Psychological Safety
DTSTART:20230216T113000
DTEND:20230216T130000
UID:1487
DTSTAMP:20260425T210147
LOCATION:CCI FRANCE CHINE Shanghai Office, 2/F Mayfair Tower, 83 Fu Min Road, Shanghai, China
DESCRIPTION:\n\n\n\nIntroduction\n\nAre you looking for a way to create a successful organizational culture? Do you want to ensure that your team is able to collaborate and innovate in a safe and trusting environment? Join us for our upcoming workshop on Psychological Safety – the key to a successful organizational culture.    \n\nAgenda\n\n\n	Introduction\n	Key Concepts\n	Creating a Psychologically Safe Work Environment\n	Implementing the key concepts: Building trust, Inclusiveness and Purpose\n	Overcoming Common Challenges\n	Action Plan\n\n\nSpeaker\n\n \n\n\n	\n		\n			\n			\n			Alejandro Buriel\n			\n			CEO @ Hara LS Ltd.\n			 \n			Alejandro is an expert in organizational culture and leadership, certified in disruptive strategy from Harvard Business School. Practitioner of Neuro-Linguistic Programming from UCSC, he also teaches Leadership Development and Digital Disruption and Innovation at CUHK. In 2015, Alejandro became the CEO of Hara LS Ltd.\n		\n	\n\n\nCoordinator\n\n\nFabienne Cao\n\nHuman Resources Manager @ Air France KLM\n\n \nEric Tarchoune\n\nManaging Director & Executive Coach @ Dragonfly Group\n\nKey Information\n\nDate: Thursday, 16 February \nTime: 18:30 to 20:00 (11:30-13:00 in France)\nEvent Format: In-person + Webinar\nFees: Audencia Alumni & CCI FRANCE CHINE Member: Free\nLanguage: English\nVenue: CCI FRANCE CHINE Shanghai Office, 2/F Mayfair Tower, 83 Fu Min Road, Shanghai, China  \nRegistration: Scan the QR code below or click here\n\n
BEGIN:VALARM
ACTION:DISPLAY
TRIGGER:-PT60M
DESCRIPTION:CCI France Chine Event: [HR Working Group]  Psychological Safety
END:VALARM
END:VEVENT
END:VCALENDAR