BEGIN:VCALENDAR
VERSION:2.0
X-WR-TIMEZONE:Europe/Paris
PRODID:-//Audencia//NONSGML v1.0//EN
CALSCALE:GREGORIAN
BEGIN:VEVENT
SUMMARY:Networking in Toronto, Canada with AAGEF
DTSTART:20230222T180000
DTEND:20230222T203000
UID:1486
DTSTAMP:20260425T210603
LOCATION:Bumpkins Restaurant & Lounge 21 Gloucester St Toronto ON M4Y 1L8
DESCRIPTION:Join us at the AAGEF (Association des Amis des Grandes Ecoles Françaises) event\n\nDate: Wednesday 22 February 2023\nTime: from 6pm\nVenue: Bumpkins Restaurant & Lounge, 21 Gloucester St, Toronto, ON M4Y 1L8, Canada\n\nThe cultural dimension of leadership\n\nIn today's fast changing global economy, we must work with people who are different from us, no matter what the difference is. This brings both challenges and opportunities. MCB helps organizations, and individuals, manage diversity and turn challenges into opportunities to achieve business objectives.\n\nLionel Laroche (Ecole Polytechnique, Caltech) received his education in France and the United States and started his career in Canada as an engineer. He worked with technical professionals from all over the world and in Germany and Italy on expatriate assignments. The cultural adaptation process, after immigrating to Canada and working on international assignments for multinational companies, taught him so much that he decided to use the knowledge to help professionals from all over the world to achieve career success and organizations benefit from the opportunities brought by a diverse workforce and the global market\n\nAgenda :\n\n	6:00pm Networking\n	7:00pm Presentation - Q&A\n	7:45pm Networking\n\n \n\nRegister here\n \n\n\n\n \nAAGEF Ontario, with over 2,000 executives, is a networking association of French Elite Graduate Schools alumni, living and working in Ontario. We also welcome Ontario-based alumni of Canadian and global Elite Universities. Follow us on LinkedIn.\n\n\n\n \n\n \n\n 
BEGIN:VALARM
ACTION:DISPLAY
TRIGGER:-PT60M
DESCRIPTION:Networking in Toronto, Canada with AAGEF
END:VALARM
END:VEVENT
END:VCALENDAR