BEGIN:VCALENDAR
VERSION:2.0
X-WR-TIMEZONE:Europe/Paris
PRODID:-//Audencia//NONSGML v1.0//EN
CALSCALE:GREGORIAN
BEGIN:VEVENT
SUMMARY:Volunteers Academy 2023 : Séminaire des ambassadeurs diplômés
DTSTART:20230311T100000
DTEND:20230311T170000
UID:1485
DTSTAMP:20260425T210144
LOCATION:Audencia Paris 95 rue Falguière 75015 Paris
DESCRIPTION:= Evénement réservé aux ambassdeurs de Volunteers Academy =\n\nLe samedi 11 mars les ambassadeurs diplômés sont invités au séminaire de Volunteers Academy de 10h à 17h sur le campus parisien.\n \n\n\nQuestion ? : nushad.merchant@audencia.com\n\n\n 
BEGIN:VALARM
ACTION:DISPLAY
TRIGGER:-PT60M
DESCRIPTION:Volunteers Academy 2023 : Séminaire des ambassadeurs diplômés
END:VALARM
END:VEVENT
END:VCALENDAR