BEGIN:VCALENDAR
VERSION:2.0
X-WR-TIMEZONE:Europe/Paris
PRODID:-//Audencia//NONSGML v1.0//EN
CALSCALE:GREGORIAN
BEGIN:VEVENT
SUMMARY:Dinner with Class Ambassadors 2022
DTSTART:20230310T191500
DTEND:20230310T220000
UID:1484
DTSTAMP:20260425T210114
LOCATION:TBC
DESCRIPTION: \n\n= Event reserved for Class Ambassadors of 2022 =\n\nClass Ambassadors of 2022 are cordially invited to a dinner on Friday 10 March at 7.15pm in Paris.\n\nThe restaurant details will be communicated shortly.\n\n\n\nQuestion ? : nushad.merchant@audencia.com
BEGIN:VALARM
ACTION:DISPLAY
TRIGGER:-PT60M
DESCRIPTION:Dinner with Class Ambassadors 2022
END:VALARM
END:VEVENT
END:VCALENDAR