BEGIN:VCALENDAR
VERSION:2.0
X-WR-TIMEZONE:Europe/Paris
PRODID:-//Audencia//NONSGML v1.0//EN
CALSCALE:GREGORIAN
BEGIN:VEVENT
SUMMARY:Afterwork with the MSc FAM 2023 students
DTSTART:20230224T193000
DTEND:20230224T220000
UID:1483
DTSTAMP:20260425T210044
LOCATION:La Boissonniere Charonne 52 Rue Léon Frot 75011 Paris
DESCRIPTION:The current Master of Science / MBA in Food and Agribusiness Management (MSc FAM) students will be in Paris from February 24 to 25 for the Salon de l'Agriculture.\n\nWe would like to take this opportunity to catch up with our FAM and other Audencia alumni working in the food and agribusiness fields.\nJoin us on Friday, February 24 for an afterwork at 7.30pm at La Boissonnière Charonne (Paris 75011).\n \n\n= Registrations are compulsory =\n\n\n\nQuestion ? : nushad.merchant@audencia.com\n\n 
BEGIN:VALARM
ACTION:DISPLAY
TRIGGER:-PT60M
DESCRIPTION:Afterwork with the MSc FAM 2023 students
END:VALARM
END:VEVENT
END:VCALENDAR