BEGIN:VCALENDAR
VERSION:2.0
X-WR-TIMEZONE:Europe/Paris
PRODID:-//Audencia//NONSGML v1.0//EN
CALSCALE:GREGORIAN
BEGIN:VEVENT
SUMMARY:CCI France Chine Event: [IP Working Group] High-Tech Enterprises: Qualification, Advantages and Requirement on Intellectual Property Rights in Beijing & via Webinar
DTSTART:20230223T110000
DTEND:20230223T133000
UID:1482
DTSTAMP:20260425T210315
LOCATION:CCI FRANCE CHINE Beijing Office, Suites 201-222, 2F, Building 81, No. 4 Gongti North Road, Chaoyang District, Beijing, China
DESCRIPTION:Date: Thursday, 23 February 2023\n\nTime: 6:00 pm to 8:30 pm\n\nLanguage: English\n\nEvent format: Offline\n\nEvent offline location: At CCI FRANCE CHINE Beijing office\n\nFees: Free, reserved to Audencia Alumni & CCI FRANCE CHINE members\n\nRegistrations: \n
BEGIN:VALARM
ACTION:DISPLAY
TRIGGER:-PT60M
DESCRIPTION:CCI France Chine Event: [IP Working Group] High-Tech Enterprises: Qualification, Advantages and Requirement on Intellectual Property Rights in Beijing & via Webinar
END:VALARM
END:VEVENT
END:VCALENDAR