BEGIN:VCALENDAR
VERSION:2.0
X-WR-TIMEZONE:Europe/Paris
PRODID:-//Audencia//NONSGML v1.0//EN
CALSCALE:GREGORIAN
BEGIN:VEVENT
SUMMARY:CCI France Chine Webinar avec M. l'Ambassadeur: Point sur la situation économique et les relations bilatérales
DTSTART:20230215T103000
DTEND:20230215T113000
UID:1481
DTSTAMP:20260425T210656
LOCATION:
DESCRIPTION:Date: Mercredi 15 février 2023\n\nHoraire: 17h30 (Début du webinaire) - 18h30\n\nLangue: Français\n\nFormat de l'évènement: En ligne, via webinaire\n\nFrais: Gratuit, ouvert à tous\n\nInscription: \n
BEGIN:VALARM
ACTION:DISPLAY
TRIGGER:-PT60M
DESCRIPTION:CCI France Chine Webinar avec M. l'Ambassadeur: Point sur la situation économique et les relations bilatérales
END:VALARM
END:VEVENT
END:VCALENDAR