BEGIN:VCALENDAR
VERSION:2.0
X-WR-TIMEZONE:Europe/Paris
PRODID:-//Audencia//NONSGML v1.0//EN
CALSCALE:GREGORIAN
BEGIN:VEVENT
SUMMARY:Club Culture & Management : Qu’est-ce qu'un musée & quel est son rôle ?
DTSTART:20230215T190000
DTEND:20230215T210000
UID:1480
DTSTAMP:20260425T210142
LOCATION:Beaux Arts & Cie 9 Bd de la Madeleine 75001 Paris
DESCRIPTION:\nChers amis et adhérents,\n\nLe cycle "Les nouveaux collectifs" du Club Culture & Management se poursuit mercredi 15 février avec un débat sur la définition et le rôle du musée.\n\nEn apparence simple, cette question a donné lieu à des débats passionnés dans le cadre de l'International Council of Museum (ICOM).\nAdoptée à Prague en août 2022, la nouvelle définition donne un rôle plus social au musée (inclusivité, durabilité, éthique), tout en repositionnant le public et son expérience au centre. Le musée est davantage envisagé comme un lieu d'échange.\n\nSeront présents pour en débattre :\n\n	Nathalie Bondil, Directrice du musée et des expositions de l'Institut du Monde Arabe, & membre du Conseil d'administration de l'ICOM\n\n\n\n	Sophie Kervran, Directrice du Musée de Pont-Aven et du Musée de la pêche de Concarneau\n\n\n\n	Agnès Parent, Directrice des Publics du Muséum national d'Histoire naturelle\n\n\nN’hésitez pas à vous inscrire dès à présent !\nEn amont du débat, retrouvez une interview de Sophie Kervran sur notre site.\n\nModalités d'accueil en présentiel :\n- Le débat aura lieu au siège de Beaux Arts & Cie.\n- Il commencera à 19h, l'accueil se faisant à partir de 18h30.\n- Si vous bénéficiez d'un tarif spécial (tarif chômeur ou tarif étudiant à 15 €), vous devrez nous présenter un justificatif de moins de 3 mois.\n\nAu plaisir de vous retrouver,\n\nL'équipe du Club Culture & Management\n \n\n\n\n\n 
BEGIN:VALARM
ACTION:DISPLAY
TRIGGER:-PT60M
DESCRIPTION:Club Culture & Management : Qu’est-ce qu'un musée & quel est son rôle ?
END:VALARM
END:VEVENT
END:VCALENDAR