BEGIN:VCALENDAR
VERSION:2.0
X-WR-TIMEZONE:Europe/Paris
PRODID:-//Audencia//NONSGML v1.0//EN
CALSCALE:GREGORIAN
BEGIN:VEVENT
SUMMARY:Sport Dating du MS MOS - Janvier 2018
DTSTART:20180116T193000
DTEND:20180116T210000
UID:148
DTSTAMP:20260425T205815
LOCATION:Campus Audencia Paris  95 rue Falguière, 75015 Paris
DESCRIPTION:Chers diplômés ou futurs diplômés,\n\nLe premier Sport Dating du Mastere MOS se tiendra le mardi 16 janvier 2018 entre 19h30 et 21h00.\n\n4 anciens élèves du MOS viendront partager leur expérience professionnelle sur le campus parisien. Les sessions d'échange autour de chaque Alumni se dérouleront en petits groupes et dureront de 15 à 20 minutes. La soirée se concluera ensuite sur un cocktail.\n\nCe Sport Dating sera l'ocassion pour tous de se retrouver entre Alumni ainsi qu'avec les élèves actuels de la promotion 2018.\n\nIntervenants : Gauthier LEFEBVRE (Promo 1999), Adrien NIBOUREL (Promo 2010), Guillaume GRÉGOIRE(Promotion 2016, à confirmer), César DUPUIS (Promo 2017, à confirmer).\n\nAu plaisir de vous retrouver nombreux le 16/01/2018,\n\nLes organisateurs
BEGIN:VALARM
ACTION:DISPLAY
TRIGGER:-PT60M
DESCRIPTION:Sport Dating du MS MOS - Janvier 2018
END:VALARM
END:VEVENT
END:VCALENDAR