BEGIN:VCALENDAR
VERSION:2.0
X-WR-TIMEZONE:Europe/Paris
PRODID:-//Audencia//NONSGML v1.0//EN
CALSCALE:GREGORIAN
BEGIN:VEVENT
SUMMARY:Webinar : La Cybersecurité en Asie du Sud Est
DTSTART:20230216T110000
DTEND:20230216T120000
UID:1479
DTSTAMP:20260425T210150
LOCATION:
DESCRIPTION:\nLa French Chamber of Commerce in Singapore a le plaisir de vous convier à la session [Webinar] La Cybersecurité en Asie du Sud Est : une priorité et une région d’opportunités.\n\nRejoignez-nous pour en savoir davantage sur l'attractivité du marché, les initiatives et solutions déployées dans l'industrie cyber à Singapour.\n\nUne session d'1h qui s'articulera ainsi:\n\n\n	\n	Présentation du marché, attractivité et évolution de la demande\n	\n	\n	Présentation de l'écosysteme Tech Singapourien et des initiatives en matière de cybersecurité \n	\n	\n	Témoignages de sociétes francaises dans la cyber installées a Singapour \n	\n	\n	Session de Questions/Reponses \n	\n\n\n\nUne discussion qui sera animée par:\n\n\n	\n	Carine Lespayandel, Executive Director French Chamber of Commerce Singapore \n	\n	\n	Zhi Hong Low, Regional Director EDB (Paris)\n	\n	\n	Chris Hong, Senior Manager, Innovation and Tech Ecosystem, IMDA\n	\n	\n	Olivier Castaignede, Head of Big Data and Security APAC at ATOS\n	\n	\n	Francois Moerman, CEO at XRATOR\n	\n\n\n \n\n   Pour vous inscrire, cliquez sur ce lien : ICI \n \n\n\n	\n	Date: Jeudi 16 Février 2023\n	\n	\n	Horaires: 6:00pm-7:00pm (Singapour) / 11:00am-12pm (France)\n	\n\n\n\nTerms & Conditions:\n\n\n	\n	En vous inscrivant à ce webinaire, vous acceptez de recevoir de la Chambre de Commerce francaise de Singapour et de l'EDB des invitations à d'autres événements ou des informations marché.\n	\n	\n	Vous recevrez par email, un jour avant l'événement en ligne, le lien pour vous connecter au webinaire.\n	\n
BEGIN:VALARM
ACTION:DISPLAY
TRIGGER:-PT60M
DESCRIPTION:Webinar : La Cybersecurité en Asie du Sud Est
END:VALARM
END:VEVENT
END:VCALENDAR