BEGIN:VCALENDAR
VERSION:2.0
X-WR-TIMEZONE:Europe/Paris
PRODID:-//Audencia//NONSGML v1.0//EN
CALSCALE:GREGORIAN
BEGIN:VEVENT
SUMMARY:Club Marketing & Digital : Wine tasting & Storytelling
DTSTART:20230315T193000
DTEND:20230315T213000
UID:1478
DTSTAMP:20260425T210407
LOCATION:Octave 32, rue Beaurepaire 75010 Paris
DESCRIPTION: \n\nWine tasting & story telling – spécial biodynamie et vins “nature”\n\n\nLe Club Marketing & Digital vous propose une soirée d’éveil des sens et de l’imagination, le temps d’un atelier de story telling autour du vin. \n\nTous les vins ont une histoire spécifique, liée au terroir, à son histoire, sa géographie et au travail des hommes… Ces récits sont parfois très marquants dans le milieu des vins biologiques, biodynamiques et natures*. \n\nCet atelier sera une opportunité pour se rencontrer de manière conviviale, tout en explorant l’univers de l’œnologie, et des spécificités de la biodynamie et des vins « nature* ».\n\nVous apprendrez quelques techniques pour devenir un véritable storyteller, en inspirant vos interlocuteurs et enrichissant votre communication, autour du vin ou des sujets qui vous intéressent.\n\nNous nous retrouverons chez « Octave » (Cave à vins dans le 10eme ardt) pour découvrir des vins soigneusement sélectionnés dans leur cave, et élaborés selon les notions de biodynamie et nature*.\n\nL’atelier se prolongera par un temps d’échanges et de networking autour d’un apéro dinatoire.\n \n\nIryna Krainychyn a fondé Ars Divino, elle est créatrice d’expériences oenologiques et gastronomiques haut-de-gamme et formatrice dans le secteur du luxe. Œnologue de formation, formatrice WSET certifiée, Iryna a occupé plusieurs postes comme responsable de formation au sein du groupe Moët – Hennessy. Elle est passionnée par le vin, l’art de vivre, le bien-être et la transmission.\n\n\n\n\nBrigitte Neveu-Dérotrie (GE 85) anime le Club Marketing & Digital. Elle est fondatrice de Yélen communication, consultante et formatrice en marketing et communication digitale B2B.\n\n\n* Un « vin nature » intègre généralement une vinification sans intrants, avec une utilisation des sulfites ajoutés en plus faibles quantités que pour un vin bio.\n \n\nPlaces limitées, inscriptions obligatoires\n\n\n\nQuestion : nushad.merchant@audencia.com
BEGIN:VALARM
ACTION:DISPLAY
TRIGGER:-PT60M
DESCRIPTION:Club Marketing & Digital : Wine tasting & Storytelling
END:VALARM
END:VEVENT
END:VCALENDAR