BEGIN:VCALENDAR
VERSION:2.0
X-WR-TIMEZONE:Europe/Paris
PRODID:-//Audencia//NONSGML v1.0//EN
CALSCALE:GREGORIAN
BEGIN:VEVENT
SUMMARY:!!REPORTÉ!! Webinar Productivité & Procrastination
DTSTART:20230222T123000
DTEND:20230222T133000
UID:1477
DTSTAMP:20260425T210539
LOCATION:
DESCRIPTION:\nFlorine Zhao (GE 2010) vous propose un webinar sur "Guide de productivité au (télé) travail, à l’usage des petits et grands procrastinateurs" le mercredi 22 février de 12h30 à 13h30 via Teams.\n\nObjectifs :\n\n	Expliquer pourquoi les méthodes traditionnelles ne marchent pas\n	Présenter le fonctionnement du cerveau et les études scientifiques\n	Mettre en application de façon plaisante et échanger sur les best practices qui marchent\n\n \n\nInscriptions obligatoires pour recevoir le lien Teams\n\n\n\n\nQuestions : nushad.merchant@audencia.com\n\nA propos :\n\n \nFlorine ZHAO (GE 2010) est consultante en Projets digitaux dans le secteur du luxe, un milieu exigeant et perfectionniste, elle a cherché tout au long de sa carrière à optimiser la gestion du temps pour mieux équilibrer la vie professionnelle et la vie personnelle, elle partagera ses astuces avec vous lors de ce webinaire.\n 
BEGIN:VALARM
ACTION:DISPLAY
TRIGGER:-PT60M
DESCRIPTION:!!REPORTÉ!! Webinar Productivité & Procrastination
END:VALARM
END:VEVENT
END:VCALENDAR