BEGIN:VCALENDAR
VERSION:2.0
X-WR-TIMEZONE:Europe/Paris
PRODID:-//Audencia//NONSGML v1.0//EN
CALSCALE:GREGORIAN
BEGIN:VEVENT
SUMMARY:Alumni Dinner in Ginza, Tokyo
DTSTART:20230219T100000
DTEND:20230219T140000
UID:1476
DTSTAMP:20260425T210045
LOCATION:New TORIGIN, 5 Chome-5-11 Ginza, Chūō-ku, Tokyo, 104-0061, Japan
DESCRIPTION:Dear Audencia Alumni in Tokyo, Japan, \n\nOur alumni community is organising a dinner at New TORIGIN (5 Chome-5-11 Ginza, Chūō-ku, Tokyo) on Sunday, 19 February, click on the register button on this page to book your place! \n\nQuestions? Feel free to contact our Alumni Ambassador in Tokyo, Baptiste Bassot, through email or LinkedIn
BEGIN:VALARM
ACTION:DISPLAY
TRIGGER:-PT60M
DESCRIPTION:Alumni Dinner in Ginza, Tokyo
END:VALARM
END:VEVENT
END:VCALENDAR