BEGIN:VCALENDAR
VERSION:2.0
X-WR-TIMEZONE:Europe/Paris
PRODID:-//Audencia//NONSGML v1.0//EN
CALSCALE:GREGORIAN
BEGIN:VEVENT
SUMMARY:Déjeuner SciencesCom avec Stéphane Dugast
DTSTART:20230120T120000
DTEND:20230120T140000
UID:1475
DTSTAMP:20260425T210119
LOCATION:Les Funambules, 83 bd de la Prairie au Duc, 44200 Nantes
DESCRIPTION:Nous vous proposons une pause déjeuner avec Stéphane Dugast (?SCOM 1998)  aux Funambules sur l'Ile de Nantes, de 12h à 14h. \n\nHâte de vous y retrouver !*\n\nSixtine Pontroué\nspontroue@audencia.com\n\n*Evénement réservé aux diplômés SciencesCom uniquement accessible sur inscription et dans la limite des places disponibles
BEGIN:VALARM
ACTION:DISPLAY
TRIGGER:-PT60M
DESCRIPTION:Déjeuner SciencesCom avec Stéphane Dugast
END:VALARM
END:VEVENT
END:VCALENDAR